{
 "currentVersion": 11.1,
 "cimVersion": "3.1.0",
 "serviceDescription": "The AUSTopo Topographic Basemap is a seamless, national digital representation of the AUSTopo 1:250,000 topographic map series, delivered as a high\u2011performance Web Map Tile Service (WMTS). It provides a consistent and reliable portrayal of Australia\u2019s major topographic features, optimised specifically for display at the 1:250,000 scale. This basemap is designed for visualisation purposes and general situational awareness. It is not suitable for: large\u2011scale cartographic production, navigation or emergency decision\u2011making or detailed spatial analysis.Features may be generalised to maintain cartographic clarity at the intended scale.",
 "mapName": "AUSTopo Topographic Basemap",
 "description": "The AUSTopo Topographic Basemap is a seamless, national digital representation of the AUSTopo 1:250,000 topographic map series, delivered as a high\u2011performance Web Map Tile Service (WMTS). It provides a consistent and reliable portrayal of Australia\u2019s major topographic features, optimised specifically for display at the 1:250,000 scale. This basemap is designed for visualisation purposes and general situational awareness. It is not suitable for: large\u2011scale cartographic production, navigation or emergency decision\u2011making or detailed spatial analysis.Features may be generalised to maintain cartographic clarity at the intended scale.",
 "copyrightText": "Geoscience Australia",
 "supportsDynamicLayers": false,
 "layers": [
  {
   "id": 79,
   "name": "Australian Mainland",
   "parentLayerId": -1,
   "defaultVisibility": true,
   "subLayerIds": null,
   "minScale": 3.6978595474472E7,
   "maxScale": 0,
   "type": "Feature Layer",
   "geometryType": "esriGeometryPolygon",
   "supportsDynamicLegends": true
  }
 ],
 "tables": [],
 "spatialReference": {
  "wkid": 7844,
  "latestWkid": 7844,
  "xyTolerance": 8.983152841195215E-9,
  "zTolerance": 0.001,
  "mTolerance": 0.001,
  "falseX": -400,
  "falseY": -400,
  "xyUnits": 9.999999999999999E8,
  "falseZ": -100000,
  "zUnits": 10000,
  "falseM": -100000,
  "mUnits": 10000
 },
 "singleFusedMapCache": true,
 "tileInfo": {
  "rows": 256,
  "cols": 256,
  "dpi": 96,
  "format": "PNG",
  "compressionQuality": 0,
  "origin": {
   "x": -400,
   "y": 400
  },
  "spatialReference": {
   "wkid": 7844,
   "latestWkid": 7844,
   "xyTolerance": 8.983152841195215E-9,
   "zTolerance": 0.001,
   "mTolerance": 0.001,
   "falseX": -400,
   "falseY": -400,
   "xyUnits": 9.999999999999999E8,
   "falseZ": -100000,
   "zUnits": 10000,
   "falseM": -100000,
   "mUnits": 10000
  },
  "lods": [
   {
    "level": 0,
    "resolution": 1.2182791618489635,
    "scale": 511997952
   },
   {
    "level": 1,
    "resolution": 0.6091395809244817,
    "scale": 255998976
   },
   {
    "level": 2,
    "resolution": 0.30456979046224086,
    "scale": 127999488
   },
   {
    "level": 3,
    "resolution": 0.15228489523112043,
    "scale": 63999744
   },
   {
    "level": 4,
    "resolution": 0.07614259990106459,
    "scale": 31999936
   },
   {
    "level": 5,
    "resolution": 0.03807122380778011,
    "scale": 15999936
   },
   {
    "level": 6,
    "resolution": 0.019035611903890054,
    "scale": 7999968
   },
   {
    "level": 7,
    "resolution": 0.009517805951945027,
    "scale": 3999984
   },
   {
    "level": 8,
    "resolution": 0.0047589029759725135,
    "scale": 1999992
   },
   {
    "level": 9,
    "resolution": 0.0023794514879862567,
    "scale": 999996
   },
   {
    "level": 10,
    "resolution": 0.0011897257439931284,
    "scale": 499998
   },
   {
    "level": 11,
    "resolution": 5.948628719965642E-4,
    "scale": 249999
   },
   {
    "level": 12,
    "resolution": 2.974302462677792E-4,
    "scale": 124999
   }
  ]
 },
 "storageInfo": {
  "storageFormat": "esriMapCacheStorageModeCompactV2",
  "packetSize": 128
 },
 "initialExtent": {
  "xmin": 101.6574193330966,
  "ymin": -51.415463366208215,
  "xmax": 172.68614549878902,
  "ymax": -6.921818356478283,
  "spatialReference": {
   "cs": "gcs",
   "wkid": 7844
  }
 },
 "fullExtent": {
  "xmin": 103.57337612013421,
  "ymin": -49.01965171183814,
  "xmax": 169.02086591649763,
  "ymax": -4.5260067021082016,
  "spatialReference": {
   "cs": "gcs",
   "wkid": 7844
  }
 },
 "datesInUnknownTimezone": false,
 "minScale": 511997952,
 "maxScale": 124999,
 "units": "esriDecimalDegrees",
 "supportedImageFormatTypes": "PNG32,PNG24,PNG,JPG,DIB,TIFF,EMF,PS,PDF,GIF,SVG,SVGZ,BMP",
 "documentInfo": {
  "Title": "AUSTopo Topographic Basemap",
  "Author": "",
  "Comments": "The AUSTopo Topographic Basemap is a seamless, national digital representation of the AUSTopo 1:250,000 topographic map series, delivered as a high\u2011performance Web Map Tile Service (WMTS). It provides a consistent and reliable portrayal of Australia\u2019s major topographic features, optimised specifically for display at the 1:250,000 scale. This basemap is designed for visualisation purposes and general situational awareness. It is not suitable for: large\u2011scale cartographic production, navigation or emergency decision\u2011making or detailed spatial analysis.Features may be generalised to maintain cartographic clarity at the intended scale.",
  "Subject": "The AUSTopo Topographic Basemap is a seamless, national digital representation of the AUSTopo 1:250,000 topographic map series, delivered as a high\u2011performance Web Map Tile Service (WMTS). It provides a consistent and reliable portrayal of Australia\u2019s major topographic features, optimised specifically for display at the 1:250,000 scale.",
  "Category": "",
  "Version": "3.6.0",
  "AntialiasingMode": "None",
  "TextAntialiasingMode": "Force",
  "Keywords": "Australia,Basemap,Topographic,mapping,web service,WMTS,AUSTopo,250k,1:250000,tile cache"
 },
 "capabilities": "Map,Query,Data",
 "supportedQueryFormats": "JSON, geoJSON, PBF",
 "exportTilesAllowed": false,
 "referenceScale": 0.0,
 "datumTransformations": [
  {
   "geoTransforms": [
    {
     "wkid": 108060,
     "latestWkid": 8048,
     "transformForward": true,
     "name": "GDA_1994_To_GDA2020_1"
    }
   ]
  },
  {
   "geoTransforms": [
    {
     "wkid": 1150,
     "latestWkid": 1150,
     "transformForward": false,
     "name": "GDA_1994_To_WGS_1984"
    },
    {
     "wkid": 108060,
     "latestWkid": 8048,
     "transformForward": true,
     "name": "GDA_1994_To_GDA2020_1"
    }
   ]
  },
  {
   "geoTransforms": [
    {
     "wkid": 9688,
     "latestWkid": 9688,
     "transformForward": true,
     "name": "GDA_1994_To_WGS_1984_2"
    }
   ]
  },
  {
   "geoTransforms": [
    {
     "wkid": 9688,
     "latestWkid": 9688,
     "transformForward": false,
     "name": "GDA_1994_To_WGS_1984_2"
    }
   ]
  }
 ],
 "supportsDatumTransformation": true,
 "floorAwareMapProperties": {
  "defaultFloorFilterSettings": {
   "isEnabled": false
  }
 },
 "archivingInfo": {
  "supportsHistoricMoment": false
 },
 "supportsClipping": true,
 "supportsSpatialFilter": true,
 "supportsTimeRelation": true,
 "supportsQueryDataElements": true,
 "mapUnits": {
  "uwkid": 9102
 },
 "maxRecordCount": 2000,
 "maxImageHeight": 4096,
 "maxImageWidth": 4096,
 "supportedExtensions": ""
}
