View In:
ArcGIS JavaScript
ArcGIS Online Map Viewer
ArcGIS Earth
ArcGIS Pro
Service Description: The National Base Map service provides seamless topographic colour mapping for the whole of Australia, including the outer islands of Norfolk, Lord Howe & Macquarie Islands, the external territories of Cocos (Keeling), Christmas, Heard and McDonald Islands and the Australian Antarctic Territory. The service consists of data sourced from Geoscience Australia, Australian Antarctic Division & OpenStreetMap. The data for Christmas Island has been sourced from the Christmas Island Edition 1 NATMAP Topographic Mapping dataset (1:30,000 scale). The data for Cocos (Keeling) Islands has been sourced from the Cocos (Keeling) Islands Edition 1 NATMAP Topographic Mapping dataset (1:25,000 scale). Vegetaion for the the Australian continent is an aggregated layer from ACLUMP (Australian Collaborative Land Use and Management Program). The topographic information was checked in 2008 using satellite imagery, and supplemented using other sources in 2009. Limited field checking has been undertaken for these data and therefore some information may not be accurate. Information and assistance was supplied by the Attorney General's Department (Territories of Australia) and Department of Environment, Water, Heritage and the Arts (Parks Australia). Geoscience Australia gratefully acknowledges contibutions to data content.) When viewing the map of mainland Australia beyond 1:100,000 scale, the data is derived from the Geoscience Australia GEODATA TOPO 250K product, except roads which are OpenStreetMap data, and in from 1:100,000 scale the data is derived from OpenStreetMap data ( © OpenStreetMap contributors). The suburbs layer is sourced from the Suburb 2018 and 2020 data, Australian Bureau of Statistics. The map portrays detailed graphic representations of features that appear on the Earth's surface. These features include cultural, hydrography, marine, transport, vegetation and relief themes. The SRTM data was acquired by NASA in February 2000 and was publicly released under Creative Commons licensing from November 2011 in ESRI Grid format. The SRTM DEM has quite different characteristics to DEMs derived by interpolation from topographic data. The SRTM data is derived from radar measurements that are dense (there is essentially a measurement at almost every grid cell) but noisy. The main processing of the SRTM DEM product has included: stripe removal, void filling and vegetation offset removal. Processing methods are further described in the 1 and 3 second SRTM Derived Products User Guide (Geoscience Australia, 2011). The bathymetry image used for this map is sourced from Natural Earth. Free vector and raster map data @ naturalearthdata.com.
Map Name: National Base Map
Legend
All Layers and Tables
Layers:
Description: The National Base Map service provides seamless topographic colour mapping for the whole of Australia, including the outer islands of Norfolk, Lord Howe & Macquarie Islands, the external territories of Cocos (Keeling), Christmas, Heard and McDonald Islands and the Australian Antarctic Territory. The service consists of data sourced from Geoscience Australia, Australian Antarctic Division & OpenStreetMap. The data for Christmas Island has been sourced from the Christmas Island Edition 1 NATMAP Topographic Mapping dataset (1:30,000 scale). The data for Cocos (Keeling) Islands has been sourced from the Cocos (Keeling) Islands Edition 1 NATMAP Topographic Mapping dataset (1:25,000 scale). Vegetaion for the the Australian continent is an aggregated layer from ACLUMP (Australian Collaborative Land Use and Management Program). The topographic information was checked in 2008 using satellite imagery, and supplemented using other sources in 2009. Limited field checking has been undertaken for these data and therefore some information may not be accurate. Information and assistance was supplied by the Attorney General's Department (Territories of Australia) and Department of Environment, Water, Heritage and the Arts (Parks Australia). Geoscience Australia gratefully acknowledges contibutions to data content.) When viewing the map of mainland Australia beyond 1:100,000 scale, the data is derived from the Geoscience Australia GEODATA TOPO 250K product, except roads which are OpenStreetMap data, and in from 1:100,000 scale the data is derived from OpenStreetMap data ( © OpenStreetMap contributors). The suburbs layer is sourced from the Suburb 2018 and 2020 data, Australian Bureau of Statistics. The map portrays detailed graphic representations of features that appear on the Earth's surface. These features include cultural, hydrography, marine, transport, vegetation and relief themes. The SRTM data was acquired by NASA in February 2000 and was publicly released under Creative Commons licensing from November 2011 in ESRI Grid format. The SRTM DEM has quite different characteristics to DEMs derived by interpolation from topographic data. The SRTM data is derived from radar measurements that are dense (there is essentially a measurement at almost every grid cell) but noisy. The main processing of the SRTM DEM product has included: stripe removal, void filling and vegetation offset removal. Processing methods are further described in the 1 and 3 second SRTM Derived Products User Guide (Geoscience Australia, 2011). The bathymetry image used for this map is sourced from Natural Earth. Free vector and raster map data @ naturalearthdata.com.
Copyright Text: © Commonwealth of Australia (Geoscience Australia) 2020. This product is released under the Creative Commons Attribution 4.0 International Licence. http://creativecommons.org/licenses/by/4.0/legalcode. Surface Hydrology Contributors (NSW Department Land and Property Information, Queensland Department of National Resources and Mines, Victorian Department of Environment, Land, Water and Planning, South Australia Department for Environment, Water and Natural Resources, Tasmanian Department of Primary Industries, Parks, Water and Environment and Western Australian Land Information Authority (Landgate) ), OpenStreetMap (© OpenStreetMap contributors), Natural Earth Data, Australian Bureau of Statistics, Attorney General's Department (Territories of Australia), Department of Environment, Water, Heritage and the Arts (Parks Australia), © 2018 CC-By (Creative Commons Attribution 4.0 International Public License) - City of Melbourne Open Data Team, Austraila and Australian Antarctic Division.
Spatial Reference:
102100
(3857)
LatestVCSWkid(0)
Single Fused Map Cache: true
Tile Info:
- Height: 256.0
- Width: 256.0
- DPI: 96.0
-
Levels of Detail: 24
-
Level ID: 0
[ Start Tile, End Tile ]
- Resolution: 156543.03392800014
- Scale: 5.91657527591555E8
-
Level ID: 1
[ Start Tile, End Tile ]
- Resolution: 78271.51696399994
- Scale: 2.95828763795777E8
-
Level ID: 2
[ Start Tile, End Tile ]
- Resolution: 39135.75848200009
- Scale: 1.47914381897889E8
-
Level ID: 3
[ Start Tile, End Tile ]
- Resolution: 19567.87924099992
- Scale: 7.3957190948944E7
-
Level ID: 4
[ Start Tile, End Tile ]
- Resolution: 9783.93962049996
- Scale: 3.6978595474472E7
-
Level ID: 5
[ Start Tile, End Tile ]
- Resolution: 4891.96981024998
- Scale: 1.8489297737236E7
- Format: PNG
- Compression Quality: 0.0
- Origin: X: -2.0037508342787E7
Y: 2.0037508342787E7
- Spatial Reference: 102100
(3857)
LatestVCSWkid(0)
Storage Info:
- Storage Format: esriMapCacheStorageModeCompactV2
- Packet Size: 128
Initial Extent:
XMin: -3.99691174090547E7
YMin: -3.1763927321135916E7
XMax: 4.8672286426670894E7
YMax: 3.1094939103863128E7
Spatial Reference: 102100
(0)
LatestVCSWkid(0)
Full Extent:
XMin: -2.0037507067161843E7
YMin: -3.02409714599654E7
XMax: 2.0037507067161843E7
YMax: 1.8394384316527855E7
Spatial Reference: 102100
(0)
LatestVCSWkid(0)
Units: esriMeters
Supported Image Format Types: PNG32,PNG24,PNG,JPG,DIB,TIFF,EMF,PS,PDF,GIF,SVG,SVGZ,BMP
Document Info:
Title: National Base Map
Author:
Comments: The National Base Map service provides seamless topographic colour mapping for the whole of Australia, including the outer islands of Norfolk, Lord Howe & Macquarie Islands, the external territories of Cocos (Keeling), Christmas, Heard and McDonald Islands and the Australian Antarctic Territory. The service consists of data sourced from Geoscience Australia, Australian Antarctic Division & OpenStreetMap. The data for Christmas Island has been sourced from the Christmas Island Edition 1 NATMAP Topographic Mapping dataset (1:30,000 scale). The data for Cocos (Keeling) Islands has been sourced from the Cocos (Keeling) Islands Edition 1 NATMAP Topographic Mapping dataset (1:25,000 scale). Vegetaion for the the Australian continent is an aggregated layer from ACLUMP (Australian Collaborative Land Use and Management Program). The topographic information was checked in 2008 using satellite imagery, and supplemented using other sources in 2009. Limited field checking has been undertaken for these data and therefore some information may not be accurate. Information and assistance was supplied by the Attorney General's Department (Territories of Australia) and Department of Environment, Water, Heritage and the Arts (Parks Australia). Geoscience Australia gratefully acknowledges contibutions to data content.) When viewing the map of mainland Australia beyond 1:100,000 scale, the data is derived from the Geoscience Australia GEODATA TOPO 250K product, except roads which are OpenStreetMap data, and in from 1:100,000 scale the data is derived from OpenStreetMap data ( © OpenStreetMap contributors). The suburbs layer is sourced from the Suburb 2018 and 2020 data, Australian Bureau of Statistics. The map portrays detailed graphic representations of features that appear on the Earth's surface. These features include cultural, hydrography, marine, transport, vegetation and relief themes. The SRTM data was acquired by NASA in February 2000 and was publicly released under Creative Commons licensing from November 2011 in ESRI Grid format. The SRTM DEM has quite different characteristics to DEMs derived by interpolation from topographic data. The SRTM data is derived from radar measurements that are dense (there is essentially a measurement at almost every grid cell) but noisy. The main processing of the SRTM DEM product has included: stripe removal, void filling and vegetation offset removal. Processing methods are further described in the 1 and 3 second SRTM Derived Products User Guide (Geoscience Australia, 2011). The bathymetry image used for this map is sourced from Natural Earth. Free vector and raster map data @ naturalearthdata.com.
Subject: The National Base Map service provides seamless topographic colour mapping for the whole of Australia including its' external territories.
Category:
Keywords: National Map,basemap,Australia,Topographic,mapping
AntialiasingMode: None
TextAntialiasingMode: Force
Supports Dynamic Layers: false
MaxRecordCount: 2000
MaxImageHeight: 4096
MaxImageWidth: 4096
Supported Query Formats: JSON, geoJSON, PBF
Supports Query Data Elements: true
Min Scale: 5.91657527591555E8
Max Scale: 70.5310735
Supports Datum Transformation: true
Child Resources:
Info
Supported Operations:
Export Map
Identify
QueryLegends
QueryDomains
Find
Return Updates